BEGIN:VCALENDAR
VERSION:2.0
PRODID:-//東海商工会議所 - ECPv4.6.20.1//NONSGML v1.0//EN
CALSCALE:GREGORIAN
METHOD:PUBLISH
X-WR-CALNAME:東海商工会議所
X-ORIGINAL-URL:https://www.tokai-cci.or.jp
X-WR-CALDESC:Events for 東海商工会議所
BEGIN:VEVENT
DTSTART;TZID=Asia/Tokyo:20260519T133000
DTEND;TZID=Asia/Tokyo:20260519T153000
DTSTAMP:20260423T153530
CREATED:20260401T000026Z
LAST-MODIFIED:20260327T014629Z
UID:11145-1779197400-1779204600@www.tokai-cci.or.jp
SUMMARY:地域ブランド構築事業「自社の強みをブランド発信！中小企業だからこそ出来るブランド術」
DESCRIPTION:価格転嫁・新商品開発・新市場展開・集客・売り上げアップ・採用etc\n実践事例満載！中小企業だからこそ出来るブランド術 \n  \n円安・物価高・賃金アップの世の中、本来あるべき価格で商品やサービスを提供する為には自社の強みを見つけ出し、磨き上げ、ブランド化していく事が大切です。 \nまるや八丁味噌・おもいのフライパン・復元屋・松浦商店etc、食品・製造業・小売り・サービス・飲食・士業etc\n600社を超えるブランディング事例から生まれた実践ブランド術を学べるセミナーです。 \n本セミナーは地域ブランド構築に向けてのキックオフ事業です。\n地域ブランド事業に興味ある方・参加希望の方は是非ご参加ください。 \n  \n■日　時　　令和８年５月19日（火）13時30分～15時30分 \n■会　場　　東海市立商工センター　４階　大会議室 \n■対　象　　東海商工会議所　会員事業所　50名 \n■参加費　　無料 \n■申込み　https://forms.gle/6fT2N1FJGDcFTK167 \n
URL:https://www.tokai-cci.or.jp/event/%e5%9c%b0%e5%9f%9f%e3%83%96%e3%83%a9%e3%83%b3%e3%83%89%e6%a7%8b%e7%af%89%e4%ba%8b%e6%a5%ad%e3%80%8c%e8%87%aa%e7%a4%be%e3%81%ae%e5%bc%b7%e3%81%bf%e3%82%92%e3%83%96%e3%83%a9%e3%83%b3%e3%83%89%e7%99%ba
LOCATION:中央町4-2\, 東海市\, 愛知県\, 476-0013\, Japan
END:VEVENT
END:VCALENDAR