BEGIN:VCALENDAR
VERSION:2.0
PRODID:-//東海商工会議所 - ECPv4.6.20.1//NONSGML v1.0//EN
CALSCALE:GREGORIAN
METHOD:PUBLISH
X-WR-CALNAME:東海商工会議所
X-ORIGINAL-URL:https://www.tokai-cci.or.jp
X-WR-CALDESC:Events for 東海商工会議所
BEGIN:VEVENT
DTSTART;TZID=Asia/Tokyo:20260414T100000
DTEND;TZID=Asia/Tokyo:20260414T160000
DTSTAMP:20260423T135501
CREATED:20260213T000408Z
LAST-MODIFIED:20260408T060616Z
UID:11035-1776160800-1776182400@www.tokai-cci.or.jp
SUMMARY:【令和8年4月14日（火）開催】新入社員研修
DESCRIPTION:～社会人として必要な心構え、ビジネスマナーの体得を目指します～ \n  \n・カリキュラム\n■オリエンテーション　■社会人としての心構え　■マナーの必要性\n■電話応対の基本　■来客対応　 ■仕事の進め方等 \n  \n１．日時　２０２６年4月14日（火）　10：00～16：00（昼食休憩12：00～13：00） \n  \n\n2．会場　東海市立商工センター4F大会議室　東海市中央町四丁目２番地 \n  \n3 ．講師　リベル代表近藤ひろえ氏 \n  \n4 ．定員　４０名（定員になり次第、締め切らせていただきます） \n  \n5 ．参加費　会員事業所３\,３００円（税込）非会員１１\,０００円（税込）\n（昼食代は含みません）［当日ご持参ください。領収書をお渡しします。］ \n  \n6 ．申込方法　下記申込書にご記入の上、ＦＡＸにてお申込みください。 \n  \n※　昼食は各自でご用意ください。会場での飲食も可能ですが、ごみはお持ち帰り下さい。 \n  \nチラシ兼申込書 \n
URL:https://www.tokai-cci.or.jp/event/%e6%96%b0%e5%85%a5%e7%a4%be%e5%93%a1%e7%a0%94%e4%bf%ae-2
END:VEVENT
END:VCALENDAR